BEGIN:VCALENDAR
VERSION:2.0
PRODID:-//The Mews in Greenwich - ECPv6.12.0.1//NONSGML v1.0//EN
CALSCALE:GREGORIAN
METHOD:PUBLISH
X-WR-CALNAME:The Mews in Greenwich
X-ORIGINAL-URL:https://themewsingreenwich.org
X-WR-CALDESC:Events for The Mews in Greenwich
REFRESH-INTERVAL;VALUE=DURATION:PT1H
X-Robots-Tag:noindex
X-PUBLISHED-TTL:PT1H
BEGIN:VTIMEZONE
TZID:America/New_York
BEGIN:DAYLIGHT
TZOFFSETFROM:-0500
TZOFFSETTO:-0400
TZNAME:EDT
DTSTART:20260308T070000
END:DAYLIGHT
BEGIN:STANDARD
TZOFFSETFROM:-0400
TZOFFSETTO:-0500
TZNAME:EST
DTSTART:20261101T060000
END:STANDARD
END:VTIMEZONE
BEGIN:VEVENT
DTSTART;VALUE=DATE:20260423
DTEND;VALUE=DATE:20260424
DTSTAMP:20260423T022711
CREATED:20260408T111657Z
LAST-MODIFIED:20260408T111657Z
UID:15107-1776902400-1776988799@themewsingreenwich.org
SUMMARY:Book Mobile
DESCRIPTION:
URL:https://themewsingreenwich.org/event/book-mobile-72/
END:VEVENT
BEGIN:VEVENT
DTSTART;TZID=America/New_York:20260423T093000
DTEND;TZID=America/New_York:20260423T093000
DTSTAMP:20260423T022711
CREATED:20260408T112209Z
LAST-MODIFIED:20260408T112209Z
UID:15109-1776936600-1776936600@themewsingreenwich.org
SUMMARY:Yoga w/ Darby
DESCRIPTION:
URL:https://themewsingreenwich.org/event/yoga-w-darby-7/
END:VEVENT
BEGIN:VEVENT
DTSTART;TZID=America/New_York:20260423T100000
DTEND;TZID=America/New_York:20260423T120000
DTSTAMP:20260423T022711
CREATED:20260408T111715Z
LAST-MODIFIED:20260408T111715Z
UID:15108-1776938400-1776945600@themewsingreenwich.org
SUMMARY:Wellness
DESCRIPTION:
URL:https://themewsingreenwich.org/event/wellness-85/
END:VEVENT
BEGIN:VEVENT
DTSTART;TZID=America/New_York:20260423T133000
DTEND;TZID=America/New_York:20260423T133000
DTSTAMP:20260423T022711
CREATED:20260408T112231Z
LAST-MODIFIED:20260408T112231Z
UID:15110-1776951000-1776951000@themewsingreenwich.org
SUMMARY:Louis Armstrong & Jazz DVD
DESCRIPTION:
URL:https://themewsingreenwich.org/event/louis-armstrong-jazz-dvd/
END:VEVENT
BEGIN:VEVENT
DTSTART;TZID=America/New_York:20260423T170000
DTEND;TZID=America/New_York:20260423T170000
DTSTAMP:20260423T022711
CREATED:20260408T112246Z
LAST-MODIFIED:20260408T112246Z
UID:15111-1776963600-1776963600@themewsingreenwich.org
SUMMARY:Movie
DESCRIPTION:
URL:https://themewsingreenwich.org/event/movie-907/
END:VEVENT
END:VCALENDAR